Workbook

Sheet инф
A9: ИНФОРМАЦИЯ
A10: о технологическом присоединении
A11: АО "ОЭЗ ППТ "Липецк"
A12: (наименование сетевой организации)
A13: согласно п.28 Стандартов раскрытия информации сетевыми организациями (Постановление №24 от 21.01.2004)
A14: 1. Полное наименование: Акционерное общество «Особая экономическая зона промышленно -производственного типа "Липецк"
A15: 2. Сокращенное наименование: АО "ОЭЗ ППТ "Липецк"
A16: 3. Место нахождения: 398010, Липецкая область, Грязинский р-н, г. Грязи, территория ОЭЗ ППТ «Липецк», стр.4
A17: 4. Адрес юридического лица: 398010, Липецкая область, Грязинский р-н, г. Грязи, территория ОЭЗ ППТ «Липецк», стр.4
A18: 5. ИНН: 4826052440
A19: 6. КПП: 480201001
A20: 7. Ф.И.О. руководителя: Генеральный директор Базаев Александр Арсенович
... A23: 10. Факс: 8 (4742) 51-53-39

Sheet а
F1: Приложение N 1
F2: к Методическим указаниям
F3: по определению размера платы
F4: за технологическое присоединение
F5: к электрическим сетям
B9: Расходы
B10: на строительство введенных в эксплуатацию объектов
B11: электросетевого хозяйства для целей технологического
B12: присоединения и для целей реализации иных мероприятий
B13: инвестиционной программы территориальной сетевой организации,
B14: а также на обеспечение коммерческого учета электрической энергии (мощности).
B16: АО "ОЭЗ ППТ "Липецк"
B17: (заполняется отдельно для территорий городских
B18: населенных пунктов и территорий, не относящихся
B19: к городским населенным пунктам)
A21: N п/п | B21: Объект электросетевого хозяйства/ Средство коммерческого учета элеткрической энергии (мощности) | C21: Год ввода объекта | D21: Уровень напряжения, кВ | E21: Протяженность (для линий электропередачи), метров/Количество пунктов секционирования, штук/Количество точек учета, штук | F21: Максимальная мощность, кВт | G21: Расходы на строительство объекта/ на обеспечение коммерческого учета (мощности), тыс. руб.
A22: 1 | B22: 2 | C22: 3 | D22: 4 | E22: 5 | F22: 6 | G22: 7
A23: 1. | B23: Строительство воздушных линий | C23: - | D23: - | E23: - | F23: - | G23: -
A24: 1.j | B24: Материал опоры (деревянные (j = 1), металлические (j = 2), железобетонные (j = 3)) | C24: - | D24: - | E24: - | F24: - | G24: -
A25: 1.j.k | B25: Тип провода (изолированный провод (k = 1), неизолированный провод (k = 2)) | C25: - | D25: - | E25: - | F25: - | G25: -
A26: 1.j.k.l | B26: Материал провода (медный (l = 1), стальной (l = 2), сталеалюминиевый (l = 3), алюминиевый (l = 4)) | C26: - | D26: - | E26: - | F26: - | G26: -
A27: 1.j.k.l.m | B27: Сечение провода (диапазон до 50 квадратных мм включительно (m = 1), от 50 до 100 квадратных мм включительно (m = 2), от 100 до 200 квадратных мм включительно (m = 3), от 200 до 500 квадратных мм включительно (m = 4), от 500 до 800 квадратных мм включительно (m = 5), свыше 800 квадратных мм (m = 6)) | C27: - | D27: - | E27: - | F27: - | G27: -
A28: 1.j.k.l.m.n | B28: Количество цепей (одноцепная (n = 1), двухцепная (n = 2) | C28: - | D28: - | E28: - | F28: - | G28: -
A29: 1.2.k.l.m.n.o | B29: на металлических опорах, за исключением многогранных (o = 1), на многогранных опорах (o = 2) | C29: - | D29: - | E29: - | F29: - | G29: -
A30: 2. | B30: Строительство кабельных линий | D30: - | E30: - | F30: - | G30: 9742.5495
A31: 2.j | B31: Способ прокладки кабельных линий (в траншеях (j = 1), в блоках (j = 2), в каналах (j = 3), в туннелях и коллекторах (j = 4), в галереях и эстакадах (j = 5), горизонтальное наклонное бурение (j = 6), подводная прокладк ((j = 7)) | C31: - | D31: - | E31: - | F31: - | G31: -
A32: 2.j.k | B32: Одножильные (k = 1) и многожильные (k = 2) | D32: - | E32: - | F32: - | G32: -
A33: 2.j.k.l | B33: Кабели с резиновой и пластмассовой изоляцией (l = 1), бумажной изоляцией (l = 2) | C33: - | D33: - | E33: - | F33: - | G33: -
A34: 2.j.k.l.m | B34: Сечение провода (диапазон до 50 квадратных мм включительно (m = 1), от 50 до 100 квадратных мм включительно (m = 2), от 100 до 200 квадратных мм включительно (m = 3), от 200 до 250 квадратных мм включительно (m = 4), от 250 до 300 квадратных мм включительно (m = 5), от 300 до 400 квадратных мм включительно (m = 6), от 400 до 500 квадратных мм включительно (m = 7), от 500 до 800 квадратных мм включительно (m = 8), свыше 800 квадратных мм (m = 9)) | C34: - | D34: - | E34: - | F34: - | G34: -
A35: 2.j.k.l.m.n | B35: Количество кабелей в траншее, канале, туннеле или коллекторе, на галерее или эстакаде, труб в скважине (одна (n = 1), две (n = 2), три (n = 3), четыре (n = 4), более четырех (n = 5) | C35: - | D35: - | E35: - | F35: - | G35: -
A36: 2.1.1.1.4.1. | B36: Кабельная линия КЛ-10 кВ "Петэкперт-1" | C36: 2024 | D36: 10 | E36: 113 | F36: 5346 | G36: 249.88694
A37: 2.1.1.1.4.1. | B37: Кабельная линия КЛ-10 кВ "Петэкперт-2" | C37: 2024 | D37: 10 | E37: 113 | G37: 249.88694
A38: 2.1.1.1.3.1. | B38: Кабельная линия КЛ-10 кВ "Агротек-1" | C38: 2024 | D38: 10 | E38: 470 | F38: 1250 | G38: 1317.6886
A39: 2.1.1.1.3.1. | B39: Кабельная линия КЛ-10 кВ "Агротек-2" | C39: 2024 | D39: 10 | E39: 470 | G39: 1317.6886
A40: 2.1.1.1.2.1. | B40: Кабельная линия КЛ-10 кВ "В1" "Елецкипагро-1" | C40: 2025 | D40: 10 | E40: =970-E42 -> 912 | F40: 500 | G40: 1747.134
A41: 2.1.1.1.2.1. | B41: Кабельная линия КЛ-10 кВ "В2" "Елецкипагро-2" | C41: 2025 | D41: 10 | E41: =970-E43 -> 912 | G41: 1747.134
A42: 2.6.1.1.2.1. | B42: Кабельная линия КЛ-10 кВ "В1" "Елецкипагро-1" | C42: 2025 | D42: 10 | E42: =38+20 -> 58 | G42: 55.160135
A43: 2.6.1.1.2.1. | B43: Кабельная линия КЛ-10 кВ "В2" "Елецкипагро-2" | C43: 2025 | D43: 10 | E43: =38+20 -> 58 | G43: 55.160135
A44: 2.1.1.1.2.1. | B44: Кабельная линия КЛ-10 кВ "В1" "Технолит-1" | C44: 2025 | D44: 10 | E44: =617-E46 -> 559 | F44: 1000 | G44: 1172.3462
A45: 2.1.1.1.2.1. | B45: Кабельная линия КЛ-10 кВ "В2" "Технолит-2" | C45: 2025 | D45: 10 | E45: =610-E47 -> 552 | G45: 1155.2153
...

Sheet а.1.
E1: Приложение N 2
E2: к Методическим указаниям
E3: по определению размера платы
E4: за технологическое присоединение
E5: к электрическим сетям
C6: Расходы
C7: на выполнение мероприятий по технологическому
C8: присоединению, предусмотренных подпунктами "а" и "в"
C9: пункта 16 Методических указаний, за 2017 год
A10: N п/п | B10: Наименование мероприятий | C10: Информация для расчета стандартизированной тарифной ставки С1 | F10: Расходы на одно присоединение (руб. на одно ТП)
C11: Расходы по каждому мероприятию (руб.) | D11: Количество технологических присоединений (шт.) | E11: Объем максимальной мощности (кВт)
A12: 1 | B12: 2 | C12: 3 | D12: 4 | E12: 5 | F12: 6
A13: 1. | B13: Подготовка и выдача сетевой организацией технических условий Заявителю | C13: =#REF!*1000 -> #REF! | D13: 9 | E13: =1440+1000+1000+2500+4000+804.9+37+150+400 -> 11331.9 | F13: =C13/D13 -> #REF!
A14: 2. | B14: Проверка сетевой организацией выполнения Заявителем технических условий | C14: =(#REF!+#REF!+#REF!)*1000 -> #REF! | D14: 9 | E14: =1440+1000+1000+2500+4000+804.9+37+150+400 -> 11331.9 | F14: =C14/D14 -> #REF!
A15: 2.1. | B15: Выдача сетевой организацией акта об осуществлении технологического присоединения Заявителям, указанным в абзаце восьмом пункта 24 Методических указаний по определению размера платы за технологическое присоединение к электрическим сетям
A16: 2.2. | B16: Проверка сетевой организацией выполнения технических условий Заявителями, указанными в абзаце девятом пункта 24 Методических указаний по определению размера платы за технологическое присоединение к электрическим сетям
C18: Расходы
C19: на выполнение мероприятий по технологическому
C20: присоединению, предусмотренных подпунктами "а" и "в"
C21: пункта 16 Методических указаний, за 2018 год
A22: N п/п | B22: Наименование мероприятий | C22: Информация для расчета стандартизированной тарифной ставки С1 | F22: Расходы на одно присоединение (руб. на одно ТП)
C23: Расходы по каждому мероприятию (руб.) | D23: Количество технологических присоединений (шт.) | E23: Объем максимальной мощности (кВт)
A24: 1 | B24: 2 | C24: 3 | D24: 4 | E24: 5 | F24: 6
A25: 1. | B25: Подготовка и выдача сетевой организацией технических условий Заявителю | C25: =#REF!*1000 -> #REF! | D25: 8 | E25: =6000+2700+300+200+300+150+455+585 -> 10690 | F25: =C25/D25 -> #REF!
A26: 2. | B26: Проверка сетевой организацией выполнения Заявителем технических условий | C26: =(#REF!)*1000 -> #REF! | D26: 8 | E26: =6000+2700+300+200+300+150+455+585 -> 10690 | F26: =C26/D26 -> #REF!
A27: 2.1. | B27: Выдача сетевой организацией уведомления об обеспечении сетевой организацией возможности присоединения к электрическим сетям Заявителям, указанным в абзаце шестом пункта 24 Методических указаний по определению размера платы за технологическое присоединение к электрическим сетям
A28: 2.2. | B28: Проверка сетевой организацией выполнения технических условий Заявителями, указанными в абзаце седьмом пункта 24 Методических указаний по определению размера платы за технологическое присоединение к электрическим сетям | C28: =C26 -> #REF! | D28: =D26 -> 8 | E28: =E26 -> 10690 | F28: =F26 -> #REF!
C30: Расходы
C31: на выполнение мероприятий по технологическому
C32: присоединению, предусмотренных подпунктами "а" и "в"
C33: пункта 16 Методических указаний, за 2023 год
A34: N п/п | B34: Наименование мероприятий | C34: Информация для расчета стандартизированной тарифной ставки С1 | F34: Расходы на одно присоединение (руб. на одно ТП)
C35: Расходы по каждому мероприятию (руб.) | D35: Количество технологических присоединений (шт.) | E35: Объем максимальной мощности (кВт)
A36: 1 | B36: 2 | C36: 3 | D36: 4 | E36: 5 | F36: 6
A37: 1. | B37: Подготовка и выдача сетевой организацией технических условий Заявителю | C37: 6508735.1 | D37: 9 | E37: 18223 | F37: 723192.79
A38: 2. | B38: Проверка сетевой организацией выполнения Заявителем технических условий | C38: 7928105.9 | D38: 9 | E38: 18223 | F38: 880900.65
A39: 2.1. | B39: Выдача сетевой организацией уведомления об обеспечении сетевой организацией возможности присоединения к электрическим сетям Заявителям, указанным в абзаце шестом пункта 24 Методических указаний по определению размера платы за технологическое присоединение к электрическим сетям
A40: 2.2. | B40: Проверка сетевой организацией выполнения технических условий Заявителями, указанными в абзаце седьмом пункта 24 Методических указаний по определению размера платы за технологическое присоединение к электрическим сетям | C40: 7928105.9 | D40: 9 | E40: 18223 | F40: 880900.65
C42: Расходы
C43: на выполнение мероприятий по технологическому
...

Sheet б
A3: Информация о решении органа исполнительной власти субъекта Российской Федерации
A4: в области государственного регулирования тарифов об установлении единых для всех территориальных сетевых организаций
A5: на территории субъекта Российской Федерации стандартизированных тарифных ставок, определяющих величину
A6: платы за технологическое присоединение к электрическим сетям территориальных сетевых организаций
A12: Управлением энергетики и тарифов Липецкой области утверждены стандартизированные тарифные ставки,
A13: ставки платы за единицу мощности и формула платы за технологическое присоединение к электрическим сетям
A14: территориальных сетевых организаций, осуществляющих свою деятельность на территории Липецкой области, на 2026г-
A15: Постановление Министерства энергетики и тарифов Липецкой области от 01.12.2025г №44

Sheet в
D1: Приложение N 2
D2: к стандартам раскрытия информации
D3: субъектами оптового и розничных
D4: рынков электрической энергии
A8: Информация о фактических средних данных
A9: о присоединенных объемах максимальной мощности
A10: за 3 предыдущих года по каждому мероприятию
A12: Наименование мероприятий | C12: Фактические расходы на строительство подстанций за 3 предыдущих года (тыс. рублей) | D12: Объем мощности, введенной в основные фонды за 3 предыдущих года (кВт)
A13: 1. | B13: Строительство пунктов секционирования (распределенных пунктов) | C13: - | D13: -
A14: 2. | B14: Строительство комплектных трансформаторных подстанций и распределительных трансформаторных подстанций с уровнем напряжения до 35 кВ | C14: - | D14: -
A15: 3. | B15: Строительство центров питания и подстанций уровнем напряжения 35 кВ и выше | C15: - | D15: -

Sheet г
E1: Приложение N 3
E2: к стандартам раскрытия информации
E3: субъектами оптового и розничных
E4: рынков электрической энергии
A8: Информация о фактических средних данных
A9: о длине линий электропередачи и об объемах максимальной
A10: мощности построенных объектов за 3 предыдущих года*
A11: по каждому мероприятию
A13: Наименование мероприятий | C13: Расходы на строительство воздушных и кабельных линий электропередачи на i-м уровне напряжения, фактически построенных за последние 3 года (тыс. рублей) | D13: Длина воздушных и кабельных линий электропередачи на i-м уровне напряжения, фактически построенных за последние 3 года (км) | E13: Объем максимальной мощности, присоединенной путем строительства воздушных или кабельных линий за последние 3 года (кВт)
A14: 1. | B14: Строительство кабельных линий электропередачи: | C14: =SUM(C15:C16) -> 9742.5495 | D14: =SUM(D15:D16) -> 4.333 | E14: =SUM(E15:E16) -> 8096
B15: 0,4 кВ
B16: 1 - 20 кВ | C16: =а!G30 -> 9742.5495 | D16: =(а!E36+а!E37+а!E38+а!E39+а!E40+а!E41+а!E42+а!E43+а!E44+а!E45+а!E46+а!E47)/1000 -> 4.333 | E16: =(а!F36+а!F38+а!F40+а!F44) -> 8096
B17: 35 кВ | C17: - | D17: - | E17: -
A18: 2. | B18: Строительство воздушных линий электропередачи: | C18: =C20 -> - | D18: =D20 -> - | E18: =E20 -> -
B19: 0,4 кВ | C19: - | D19: - | E19: -
B20: 1 - 20 кВ | C20: - | D20: - | E20: -
B21: 35 кВ | C21: - | D21: - | E21: -

Sheet д
K1: Приложение N 4
K2: к стандартам раскрытия информации
K3: субъектами оптового и розничных
K4: рынков электрической энергии
A8: ИНФОРМАЦИЯ
A9: об осуществлении технологического присоединения
A10: по договорам, заключенным за текущий год
D11: по состоянию на 25.08.2026
A12: Категория заявителей | C12: Количество договоров (штук) | F12: Максимальная мощность (кВт) | I12: Стоимость договоров (без НДС) (тыс. рублей)
C13: 0,4 кВ | D13: 1 - 20 кВ | E13: 35 кВ и выше | F13: 0,4 кВ | G13: 1 - 20 кВ | H13: 35 кВ и выше | I13: 0,4 кВ | J13: 1 - 20 кВ | K13: 35 кВ и выше
A14: 1. | B14: До 15 кВт - всего | C14: 0 | D14: 0 | E14: 0 | F14: 0 | G14: 0 | H14: 0 | I14: 0 | J14: 0 | K14: 0
B15: в том числе
B16: льготная категория <*> | C16: 0 | D16: 0 | E16: 0 | F16: 0 | G16: 0 | H16: 0 | I16: 0 | J16: 0 | K16: 0
A17: 2. | B17: От 15 до 150 кВт - всего | C17: 0 | D17: 0 | E17: 0 | F17: 0 | G17: 0 | H17: 0 | I17: 0 | J17: 0 | K17: 0
B18: в том числе
B19: льготная категория <**>
A20: 3. | B20: От 150 кВт до 670 кВт - всего | C20: 0 | D20: 0 | E20: 0 | F20: 0 | G20: 0 | H20: 0 | I20: 0 | J20: 0 | K20: 0
B21: в том числе
B22: по индивидуальному проекту | C22: 0 | D22: 0 | E22: 0 | F22: 0 | G22: 0 | H22: 0 | I22: 0 | J22: 0 | K22: 0
A23: 4. | B23: От 670 кВт до 8900 кВт - всего | C23: 0 | D23: 0 | E23: 0 | G23: 0 | H23: 0 | J23: 0 | K23: 0
B24: в том числе
B25: по индивидуальному проекту | C25: 0 | D25: 0 | E25: 0 | F25: 0 | G25: 0 | H25: 0 | I25: 0 | J25: 0 | K25: 0
A26: 5. | B26: От 8900 кВт - всего | C26: 0 | D26: 0 | E26: 0 | F26: 0 | G26: 0 | H26: 0 | I26: 0 | J26: 0 | K26: 0
B27: в том числе
B28: по индивидуальному проекту | C28: 0 | D28: 0 | E28: 0 | F28: 0 | G28: 0 | H28: 0 | I28: 0 | J28: 0 | K28: 0
A29: 6. | B29: Объекты генерации | C29: 0 | D29: 0 | E29: 0 | F29: 0 | G29: 0 | H29: 0 | I29: 0 | J29: 0 | K29: 0
A32: <*> Заявители, оплачивающие технологическое присоединение своих энергопринимающих устройств в размере не более 550 рублей.
A33: <**> Заявители - юридические лица или индивидуальные предприниматели, заключившие договор об осуществлении технологического присоединения по одному источнику электроснабжения энергопринимающих устройств максимальной мощностью свыше 15 и до 150 кВт включительно (с учетом ранее присоединенных энергопринимающих устройств), у которых в договоре предусматривается беспроцентная рассрочка платежа за технологическое присоединение в размере 95 процентов платы за технологическое присоединение с условием ежеквартального внесения платы равными долями от общей суммы рассрочки до 3 лет со дня подписания сторонами акта об осуществлении технологического присоединения

Sheet е
H1: Приложение N 5
H2: к стандартам раскрытия информации
H3: субъектами оптового и розничных
H4: рынков электрической энергии
A8: ИНФОРМАЦИЯ
A9: о поданных заявках на технологическое присоединение
A10: за текущий год
C11: по состоянию на 25.08.2025
A12: Категория заявителей | C12: Количество заявок (штук) | F12: Максимальная мощность (кВт)
C13: 0,4 кВ | D13: 1 - 20 кВ | E13: 35 кВ и выше | F13: 0,4 кВ | G13: 1 - 20 кВ | H13: 35 кВ и выше
A14: 1. | B14: До 15 кВт - всего | C14: =C16 -> 0 | D14: =D16 -> 0 | E14: =E16 -> 0 | F14: =F16 -> 0 | G14: =G16 -> 0 | H14: =H16 -> 0
B15: в том числе
B16: льготная категория <*>
A17: 2. | B17: От 15 до 150 кВт - всего | C17: 0 | D17: 0 | E17: 0 | F17: 0 | G17: 0 | H17: 0
B18: в том числе
B19: льготная категория <**>
A20: 3. | B20: От 150 кВт до 670 кВт - всего | C20: 0 | D20: 0 | E20: 0 | F20: 0 | G20: 0 | H20: 0
B21: в том числе
B22: по индивидуальному проекту | C22: 0 | D22: 0 | E22: 0 | F22: 0 | G22: 0 | H22: 0
A23: 4. | B23: От 670 кВт до 8900 кВт - всего | C23: 0 | D23: 0 | E23: 0 | F23: 0 | G23: =д!G23 -> 0 | H23: 0
B24: в том числе
B25: по индивидуальному проекту | C25: 0 | D25: 0 | E25: 0 | F25: 0 | G25: 0 | H25: 0
A26: 5. | B26: От 8900 кВт - всего | C26: 0 | D26: 0 | E26: 0 | F26: 0 | G26: =д!G26 -> 0 | H26: 0
B27: в том числе
B28: по индивидуальному проекту
A29: 6. | B29: Объекты генерации | C29: 0 | D29: 0 | E29: 0 | F29: 0 | G29: 0 | H29: 0
A34: <*> Заявители, оплачивающие технологическое присоединение своих энергопринимающих устройств в размере не более 550 рублей.
A35: <**> Заявители - юридические лица или индивидуальные предприниматели, заключившие договор об осуществлении технологического присоединения по одному источнику электроснабжения энергопринимающих устройств максимальной мощностью свыше 15 и до 150 кВт включительно (с учетом ранее присоединенных энергопринимающих устройств), у которых в договоре предусматривается беспроцентная рассрочка платежа за технологическое присоединение в размере 95 процентов платы за технологическое присоединение с условием ежеквартального внесения платы равными долями от общей суммы рассрочки до 3 лет со дня подписания сторонами акта об осуществлении технологического присоединения.".
